Package: qpgraph Version: 2.40.0 Command: /home/biocbuild/R/R/bin/R CMD INSTALL qpgraph StartedAt: 2025-02-03 20:40:37 -0000 (Mon, 03 Feb 2025) EndedAt: 2025-02-03 20:41:46 -0000 (Mon, 03 Feb 2025) EllapsedTime: 69.7 seconds RetCode: 0 Status: OK