Package: qsea Version: 1.32.0 Command: rm -rf qsea.buildbin-libdir && mkdir qsea.buildbin-libdir && /Users/biocbuild/BBS/utils/build-universal.sh qsea_1.32.0.tar.gz /Library/Frameworks/R.framework/Resources/bin/R qsea.buildbin-libdir StartedAt: 2025-02-04 13:52:39 -0500 (Tue, 04 Feb 2025) EndedAt: 2025-02-04 13:54:33 -0500 (Tue, 04 Feb 2025) EllapsedTime: 114.1 seconds RetCode: 0 Status: OK PackageFile: qsea_1.32.0.tgz PackageFileSize: 1.107 MiB