Package: qsea Version: 1.32.0 Command: /Library/Frameworks/R.framework/Resources/bin/R CMD INSTALL qsea StartedAt: 2025-02-03 15:48:26 -0500 (Mon, 03 Feb 2025) EndedAt: 2025-02-03 15:49:35 -0500 (Mon, 03 Feb 2025) EllapsedTime: 68.2 seconds RetCode: 0 Status: OK