Package: qsea Version: 1.32.0 Command: /home/biocbuild/bbs-3.20-bioc/R/bin/R CMD build --keep-empty-dirs --no-resave-data --md5 qsea StartedAt: 2025-02-03 18:50:26 -0500 (Mon, 03 Feb 2025) EndedAt: 2025-02-03 18:51:35 -0500 (Mon, 03 Feb 2025) EllapsedTime: 68.1 seconds RetCode: 0 Status: OK PackageFile: qsea_1.32.0.tar.gz PackageFileSize: 861.3 KiB