Package: qsea Version: 1.32.0 Command: /home/biocbuild/R/R/bin/R CMD build --keep-empty-dirs --no-resave-data qsea StartedAt: 2025-02-04 02:00:53 -0000 (Tue, 04 Feb 2025) EndedAt: 2025-02-04 02:02:01 -0000 (Tue, 04 Feb 2025) EllapsedTime: 68.1 seconds RetCode: 0 Status: OK PackageFile: qsea_1.32.0.tar.gz PackageFileSize: 676.7 KiB