Package: qsea Version: 1.32.0 Command: /home/biocbuild/R/R/bin/R CMD INSTALL qsea StartedAt: 2025-02-10 20:30:55 -0000 (Mon, 10 Feb 2025) EndedAt: 2025-02-10 20:31:35 -0000 (Mon, 10 Feb 2025) EllapsedTime: 40.2 seconds RetCode: 0 Status: OK