Package: quantiseqr Version: 1.14.0 Command: /Library/Frameworks/R.framework/Resources/bin/R CMD check --install=check:quantiseqr.install-out.txt --library=/Library/Frameworks/R.framework/Resources/library --no-vignettes --timings quantiseqr_1.14.0.tar.gz StartedAt: 2025-02-12 05:54:31 -0500 (Wed, 12 Feb 2025) EndedAt: 2025-02-12 05:58:50 -0500 (Wed, 12 Feb 2025) EllapsedTime: 258.5 seconds RetCode: 0 Status: OK CheckDir: quantiseqr.Rcheck Warnings: 0