Package: quantiseqr Version: 1.14.0 Command: rm -rf quantiseqr.buildbin-libdir && mkdir quantiseqr.buildbin-libdir && /Users/biocbuild/BBS/utils/build-universal.sh quantiseqr_1.14.0.tar.gz /Library/Frameworks/R.framework/Resources/bin/R quantiseqr.buildbin-libdir StartedAt: 2025-02-04 13:53:02 -0500 (Tue, 04 Feb 2025) EndedAt: 2025-02-04 13:54:18 -0500 (Tue, 04 Feb 2025) EllapsedTime: 76.3 seconds RetCode: 0 Status: OK PackageFile: quantiseqr_1.14.0.tgz PackageFileSize: 3.565 MiB