Package: quantiseqr Version: 1.14.0 Command: /Library/Frameworks/R.framework/Resources/bin/R CMD build --keep-empty-dirs --no-resave-data quantiseqr StartedAt: 2025-02-03 21:29:47 -0500 (Mon, 03 Feb 2025) EndedAt: 2025-02-03 21:32:02 -0500 (Mon, 03 Feb 2025) EllapsedTime: 135.4 seconds RetCode: 0 Status: OK PackageFile: quantiseqr_1.14.0.tar.gz PackageFileSize: 3.611 MiB