Package: quantiseqr Version: 1.14.0 Command: rm -rf quantiseqr.buildbin-libdir && mkdir quantiseqr.buildbin-libdir && F:\biocbuild\bbs-3.20-bioc\R\bin\R.exe CMD INSTALL --build --library=quantiseqr.buildbin-libdir quantiseqr_1.14.0.tar.gz StartedAt: 2025-02-04 09:15:16 -0500 (Tue, 04 Feb 2025) EndedAt: 2025-02-04 09:15:50 -0500 (Tue, 04 Feb 2025) EllapsedTime: 34.5 seconds RetCode: 0 Status: OK PackageFile: quantiseqr_1.14.0.zip PackageFileSize: 2.518 MiB