Package: quantiseqr Version: 1.14.0 Command: /home/biocbuild/R/R/bin/R CMD build --keep-empty-dirs --no-resave-data quantiseqr StartedAt: 2025-02-11 01:42:28 -0000 (Tue, 11 Feb 2025) EndedAt: 2025-02-11 01:44:06 -0000 (Tue, 11 Feb 2025) EllapsedTime: 98.0 seconds RetCode: 0 Status: OK PackageFile: quantiseqr_1.14.0.tar.gz PackageFileSize: 2.664 MiB