Package: quantiseqr Version: 1.14.0 Command: /home/biocbuild/R/R/bin/R CMD check --install=check:quantiseqr.install-out.txt --library=/home/biocbuild/R/R/site-library --no-vignettes --timings quantiseqr_1.14.0.tar.gz StartedAt: 2025-02-04 10:08:53 -0000 (Tue, 04 Feb 2025) EndedAt: 2025-02-04 10:12:45 -0000 (Tue, 04 Feb 2025) EllapsedTime: 232.3 seconds RetCode: 0 Status: OK CheckDir: quantiseqr.Rcheck Warnings: 0