Package: quantro Version: 1.40.0 Command: /Library/Frameworks/R.framework/Resources/bin/R CMD build --keep-empty-dirs --no-resave-data quantro StartedAt: 2025-02-04 06:01:07 -0500 (Tue, 04 Feb 2025) EndedAt: 2025-02-04 06:03:06 -0500 (Tue, 04 Feb 2025) EllapsedTime: 119.2 seconds RetCode: 0 Status: OK PackageFile: quantro_1.40.0.tar.gz PackageFileSize: 2.778 MiB