Package: quantro Version: 1.40.0 Command: /Library/Frameworks/R.framework/Resources/bin/R CMD check --install=check:quantro.install-out.txt --library=/Library/Frameworks/R.framework/Resources/library --no-vignettes --timings quantro_1.40.0.tar.gz StartedAt: 2025-02-04 08:27:22 -0500 (Tue, 04 Feb 2025) EndedAt: 2025-02-04 08:38:49 -0500 (Tue, 04 Feb 2025) EllapsedTime: 686.2 seconds RetCode: 0 Status: OK CheckDir: quantro.Rcheck Warnings: 0