Package: quantro Version: 1.40.0 Command: /home/biocbuild/bbs-3.20-bioc/R/bin/R CMD INSTALL quantro StartedAt: 2025-02-03 16:05:14 -0500 (Mon, 03 Feb 2025) EndedAt: 2025-02-03 16:06:10 -0500 (Mon, 03 Feb 2025) EllapsedTime: 56.2 seconds RetCode: 0 Status: OK