Package: quantro Version: 1.40.0 Command: chmod a+r quantro -R && F:\biocbuild\bbs-3.20-bioc\R\bin\R.exe CMD build --keep-empty-dirs --no-resave-data quantro StartedAt: 2025-02-03 21:26:52 -0500 (Mon, 03 Feb 2025) EndedAt: 2025-02-03 21:29:10 -0500 (Mon, 03 Feb 2025) EllapsedTime: 138.0 seconds RetCode: 0 Status: OK PackageFile: quantro_1.40.0.tar.gz PackageFileSize: 2.511 MiB