Package: quantsmooth Version: 1.72.0 Command: rm -rf quantsmooth.buildbin-libdir && mkdir quantsmooth.buildbin-libdir && /Users/biocbuild/BBS/utils/build-universal.sh quantsmooth_1.72.0.tar.gz /Library/Frameworks/R.framework/Resources/bin/R quantsmooth.buildbin-libdir StartedAt: 2025-02-12 16:29:35 -0500 (Wed, 12 Feb 2025) EndedAt: 2025-02-12 16:29:45 -0500 (Wed, 12 Feb 2025) EllapsedTime: 9.1 seconds RetCode: 0 Status: OK PackageFile: quantsmooth_1.72.0.tgz PackageFileSize: 418.6 KiB