Package: quantsmooth Version: 1.72.0 Command: /Library/Frameworks/R.framework/Resources/bin/R CMD build --keep-empty-dirs --no-resave-data quantsmooth StartedAt: 2025-02-04 06:01:07 -0500 (Tue, 04 Feb 2025) EndedAt: 2025-02-04 06:01:19 -0500 (Tue, 04 Feb 2025) EllapsedTime: 12.1 seconds RetCode: 0 Status: OK PackageFile: quantsmooth_1.72.0.tar.gz PackageFileSize: 338.1 KiB