Package: quantsmooth Version: 1.72.0 Command: /Library/Frameworks/R.framework/Resources/bin/R CMD check --install=check:quantsmooth.install-out.txt --library=/Library/Frameworks/R.framework/Resources/library --no-vignettes --timings quantsmooth_1.72.0.tar.gz StartedAt: 2025-02-05 06:31:08 -0500 (Wed, 05 Feb 2025) EndedAt: 2025-02-05 06:32:08 -0500 (Wed, 05 Feb 2025) EllapsedTime: 59.8 seconds RetCode: 0 Status: OK CheckDir: quantsmooth.Rcheck Warnings: 0