Package: quantsmooth Version: 1.72.0 Command: rm -rf quantsmooth.buildbin-libdir && mkdir quantsmooth.buildbin-libdir && /Users/biocbuild/BBS/utils/build-universal.sh quantsmooth_1.72.0.tar.gz /Library/Frameworks/R.framework/Resources/bin/R quantsmooth.buildbin-libdir StartedAt: 2024-11-20 04:44:26 -0500 (Wed, 20 Nov 2024) EndedAt: 2024-11-20 04:44:38 -0500 (Wed, 20 Nov 2024) EllapsedTime: 12.7 seconds RetCode: 0 Status: OK PackageFile: quantsmooth_1.72.0.tgz PackageFileSize: 419 KiB