Package: quantsmooth Version: 1.72.0 Command: /Library/Frameworks/R.framework/Resources/bin/R CMD check --install=check:quantsmooth.install-out.txt --library=/Library/Frameworks/R.framework/Resources/library --no-vignettes --timings quantsmooth_1.72.0.tar.gz StartedAt: 2025-02-04 08:27:53 -0500 (Tue, 04 Feb 2025) EndedAt: 2025-02-04 08:29:46 -0500 (Tue, 04 Feb 2025) EllapsedTime: 113.0 seconds RetCode: 0 Status: OK CheckDir: quantsmooth.Rcheck Warnings: 0