Package: quantsmooth Version: 1.72.0 Command: /Library/Frameworks/R.framework/Resources/bin/R CMD INSTALL quantsmooth StartedAt: 2025-02-10 16:16:04 -0500 (Mon, 10 Feb 2025) EndedAt: 2025-02-10 16:16:18 -0500 (Mon, 10 Feb 2025) EllapsedTime: 14.0 seconds RetCode: 0 Status: OK