Package: quantsmooth Version: 1.72.0 Command: /home/biocbuild/bbs-3.20-bioc/R/bin/R CMD check --install=check:quantsmooth.install-out.txt --library=/home/biocbuild/bbs-3.20-bioc/R/site-library --timings quantsmooth_1.72.0.tar.gz StartedAt: 2025-02-04 01:30:41 -0500 (Tue, 04 Feb 2025) EndedAt: 2025-02-04 01:31:31 -0500 (Tue, 04 Feb 2025) EllapsedTime: 50.0 seconds RetCode: 0 Status: OK CheckDir: quantsmooth.Rcheck Warnings: 0