Package: quantsmooth Version: 1.72.0 Command: /home/biocbuild/bbs-3.20-bioc/R/bin/R CMD INSTALL quantsmooth StartedAt: 2025-02-03 15:54:15 -0500 (Mon, 03 Feb 2025) EndedAt: 2025-02-03 15:54:22 -0500 (Mon, 03 Feb 2025) EllapsedTime: 6.7 seconds RetCode: 0 Status: OK