Package: quantsmooth Version: 1.72.0 Command: rm -rf quantsmooth.buildbin-libdir && mkdir quantsmooth.buildbin-libdir && F:\biocbuild\bbs-3.20-bioc\R\bin\R.exe CMD INSTALL --build --library=quantsmooth.buildbin-libdir quantsmooth_1.72.0.tar.gz StartedAt: 2025-02-04 09:15:21 -0500 (Tue, 04 Feb 2025) EndedAt: 2025-02-04 09:15:35 -0500 (Tue, 04 Feb 2025) EllapsedTime: 14.0 seconds RetCode: 0 Status: OK PackageFile: quantsmooth_1.72.0.zip PackageFileSize: 315.7 KiB