Package: quantsmooth Version: 1.72.0 Command: chmod a+r quantsmooth -R && F:\biocbuild\bbs-3.20-bioc\R\bin\R.exe CMD build --keep-empty-dirs --no-resave-data quantsmooth StartedAt: 2025-02-03 21:26:56 -0500 (Mon, 03 Feb 2025) EndedAt: 2025-02-03 21:27:15 -0500 (Mon, 03 Feb 2025) EllapsedTime: 19.4 seconds RetCode: 0 Status: OK PackageFile: quantsmooth_1.72.0.tar.gz PackageFileSize: 230.6 KiB