Package: quantsmooth Version: 1.72.0 Command: F:\biocbuild\bbs-3.20-bioc\R\bin\R.exe CMD INSTALL quantsmooth StartedAt: 2025-02-03 16:11:38 -0500 (Mon, 03 Feb 2025) EndedAt: 2025-02-03 16:12:01 -0500 (Mon, 03 Feb 2025) EllapsedTime: 23.2 seconds RetCode: 0 Status: OK