Package: quantsmooth Version: 1.72.0 Command: /home/biocbuild/R/R/bin/R CMD build --keep-empty-dirs --no-resave-data quantsmooth StartedAt: 2025-02-11 01:42:34 -0000 (Tue, 11 Feb 2025) EndedAt: 2025-02-11 01:42:46 -0000 (Tue, 11 Feb 2025) EllapsedTime: 12.0 seconds RetCode: 0 Status: OK PackageFile: quantsmooth_1.72.0.tar.gz PackageFileSize: 335.2 KiB