Package: quantsmooth Version: 1.72.0 Command: /home/biocbuild/R/R/bin/R CMD INSTALL quantsmooth StartedAt: 2025-02-10 20:54:41 -0000 (Mon, 10 Feb 2025) EndedAt: 2025-02-10 20:54:48 -0000 (Mon, 10 Feb 2025) EllapsedTime: 7.5 seconds RetCode: 0 Status: OK