Package: qusage Version: 2.40.0 Command: /Library/Frameworks/R.framework/Resources/bin/R CMD check --install=check:qusage.install-out.txt --library=/Library/Frameworks/R.framework/Resources/library --no-vignettes --timings qusage_2.40.0.tar.gz StartedAt: 2025-02-05 06:34:10 -0500 (Wed, 05 Feb 2025) EndedAt: 2025-02-05 06:35:44 -0500 (Wed, 05 Feb 2025) EllapsedTime: 94.3 seconds RetCode: 0 Status: OK CheckDir: qusage.Rcheck Warnings: 0