Package: qusage Version: 2.40.0 Command: /home/biocbuild/bbs-3.20-bioc/R/bin/R CMD build --keep-empty-dirs --no-resave-data --md5 qusage StartedAt: 2025-01-30 18:41:52 -0500 (Thu, 30 Jan 2025) EndedAt: 2025-01-30 18:46:39 -0500 (Thu, 30 Jan 2025) EllapsedTime: 287.4 seconds RetCode: 0 Status: OK PackageFile: qusage_2.40.0.tar.gz PackageFileSize: 9.649 MiB