Package: qusage Version: 2.40.0 Command: rm -rf qusage.buildbin-libdir && mkdir qusage.buildbin-libdir && F:\biocbuild\bbs-3.20-bioc\R\bin\R.exe CMD INSTALL --build --library=qusage.buildbin-libdir qusage_2.40.0.tar.gz StartedAt: 2025-02-04 09:15:36 -0500 (Tue, 04 Feb 2025) EndedAt: 2025-02-04 09:16:02 -0500 (Tue, 04 Feb 2025) EllapsedTime: 25.8 seconds RetCode: 0 Status: OK PackageFile: qusage_2.40.0.zip PackageFileSize: 9.665 MiB