Package: qusage Version: 2.40.0 Command: chmod a+r qusage -R && F:\biocbuild\bbs-3.20-bioc\R\bin\R.exe CMD build --keep-empty-dirs --no-resave-data qusage StartedAt: 2025-02-03 21:27:39 -0500 (Mon, 03 Feb 2025) EndedAt: 2025-02-03 21:35:05 -0500 (Mon, 03 Feb 2025) EllapsedTime: 446.8 seconds RetCode: 0 Status: OK PackageFile: qusage_2.40.0.tar.gz PackageFileSize: 9.5 MiB