Package: qusage Version: 2.40.0 Command: F:\biocbuild\bbs-3.20-bioc\R\bin\R.exe CMD check --no-multiarch --install=check:qusage.install-out.txt --library=F:\biocbuild\bbs-3.20-bioc\R\library --no-vignettes --timings qusage_2.40.0.tar.gz StartedAt: 2025-02-04 05:14:11 -0500 (Tue, 04 Feb 2025) EndedAt: 2025-02-04 05:16:06 -0500 (Tue, 04 Feb 2025) EllapsedTime: 115.1 seconds RetCode: 0 Status: OK CheckDir: qusage.Rcheck Warnings: 0