Package: qusage Version: 2.40.0 Command: /home/biocbuild/R/R/bin/R CMD INSTALL qusage StartedAt: 2025-01-30 20:12:25 -0000 (Thu, 30 Jan 2025) EndedAt: 2025-01-30 20:12:43 -0000 (Thu, 30 Jan 2025) EllapsedTime: 18.2 seconds RetCode: 0 Status: OK