Package: r3Cseq Version: 1.52.0 Command: /Library/Frameworks/R.framework/Resources/bin/R CMD check --install=check:r3Cseq.install-out.txt --library=/Library/Frameworks/R.framework/Resources/library --no-vignettes --timings r3Cseq_1.52.0.tar.gz StartedAt: 2025-02-01 05:48:09 -0500 (Sat, 01 Feb 2025) EndedAt: 2025-02-01 05:52:54 -0500 (Sat, 01 Feb 2025) EllapsedTime: 284.9 seconds RetCode: 0 Status: OK CheckDir: r3Cseq.Rcheck Warnings: 0