Package: r3Cseq Version: 1.52.0 Command: /Library/Frameworks/R.framework/Resources/bin/R CMD build --keep-empty-dirs --no-resave-data r3Cseq StartedAt: 2025-02-10 21:33:01 -0500 (Mon, 10 Feb 2025) EndedAt: 2025-02-10 21:36:42 -0500 (Mon, 10 Feb 2025) EllapsedTime: 221.2 seconds RetCode: 0 Status: OK PackageFile: r3Cseq_1.52.0.tar.gz PackageFileSize: 4.327 MiB