Package: r3Cseq Version: 1.52.0 Command: /Library/Frameworks/R.framework/Resources/bin/R CMD INSTALL r3Cseq StartedAt: 2025-02-10 15:32:10 -0500 (Mon, 10 Feb 2025) EndedAt: 2025-02-10 15:33:43 -0500 (Mon, 10 Feb 2025) EllapsedTime: 92.7 seconds RetCode: 0 Status: OK