Package: r3Cseq Version: 1.52.0 Command: /home/biocbuild/bbs-3.20-bioc/R/bin/R CMD check --install=check:r3Cseq.install-out.txt --library=/home/biocbuild/bbs-3.20-bioc/R/site-library --timings r3Cseq_1.52.0.tar.gz StartedAt: 2025-02-11 01:23:16 -0500 (Tue, 11 Feb 2025) EndedAt: 2025-02-11 01:28:40 -0500 (Tue, 11 Feb 2025) EllapsedTime: 324.5 seconds RetCode: 0 Status: OK CheckDir: r3Cseq.Rcheck Warnings: 0