Package: r3Cseq Version: 1.52.0 Command: rm -rf r3Cseq.buildbin-libdir && mkdir r3Cseq.buildbin-libdir && F:\biocbuild\bbs-3.20-bioc\R\bin\R.exe CMD INSTALL --build --library=r3Cseq.buildbin-libdir r3Cseq_1.52.0.tar.gz StartedAt: 2025-02-04 09:15:41 -0500 (Tue, 04 Feb 2025) EndedAt: 2025-02-04 09:17:26 -0500 (Tue, 04 Feb 2025) EllapsedTime: 104.5 seconds RetCode: 0 Status: OK PackageFile: r3Cseq_1.52.0.zip PackageFileSize: 2.782 MiB