Package: r3Cseq Version: 1.52.0 Command: chmod a+r r3Cseq -R && F:\biocbuild\bbs-3.20-bioc\R\bin\R.exe CMD build --keep-empty-dirs --no-resave-data r3Cseq StartedAt: 2025-02-03 21:28:05 -0500 (Mon, 03 Feb 2025) EndedAt: 2025-02-03 21:33:15 -0500 (Mon, 03 Feb 2025) EllapsedTime: 309.4 seconds RetCode: 0 Status: OK PackageFile: r3Cseq_1.52.0.tar.gz PackageFileSize: 4.161 MiB