Package: r3Cseq Version: 1.52.0 Command: F:\biocbuild\bbs-3.20-bioc\R\bin\R.exe CMD INSTALL r3Cseq StartedAt: 2025-02-03 16:43:35 -0500 (Mon, 03 Feb 2025) EndedAt: 2025-02-03 16:44:57 -0500 (Mon, 03 Feb 2025) EllapsedTime: 82.5 seconds RetCode: 0 Status: OK