Package: rBLAST Version: 1.2.0 Command: rm -rf rBLAST.buildbin-libdir && mkdir rBLAST.buildbin-libdir && /Users/biocbuild/BBS/utils/build-universal.sh rBLAST_1.2.0.tar.gz /Library/Frameworks/R.framework/Resources/bin/R rBLAST.buildbin-libdir StartedAt: 2025-02-05 17:18:14 -0500 (Wed, 05 Feb 2025) EndedAt: 2025-02-05 17:18:26 -0500 (Wed, 05 Feb 2025) EllapsedTime: 12.5 seconds RetCode: 0 Status: OK PackageFile: rBLAST_1.2.0.tgz PackageFileSize: 48.18 KiB