Package: rBLAST Version: 1.2.0 Command: rm -rf rBLAST.buildbin-libdir && mkdir rBLAST.buildbin-libdir && F:\biocbuild\bbs-3.20-bioc\R\bin\R.exe CMD INSTALL --build --library=rBLAST.buildbin-libdir rBLAST_1.2.0.tar.gz StartedAt: 2025-02-04 09:16:54 -0500 (Tue, 04 Feb 2025) EndedAt: 2025-02-04 09:17:09 -0500 (Tue, 04 Feb 2025) EllapsedTime: 15.1 seconds RetCode: 0 Status: OK PackageFile: rBLAST_1.2.0.zip PackageFileSize: 53.93 KiB