Package: rBLAST Version: 1.2.0 Command: chmod a+r rBLAST -R && F:\biocbuild\bbs-3.20-bioc\R\bin\R.exe CMD build --keep-empty-dirs --no-resave-data rBLAST StartedAt: 2025-02-03 21:32:20 -0500 (Mon, 03 Feb 2025) EndedAt: 2025-02-03 21:32:39 -0500 (Mon, 03 Feb 2025) EllapsedTime: 18.4 seconds RetCode: 0 Status: OK PackageFile: rBLAST_1.2.0.tar.gz PackageFileSize: 24.78 KiB