Package: rBLAST Version: 1.2.0 Command: F:\biocbuild\bbs-3.20-bioc\R\bin\R.exe CMD check --no-multiarch --install=check:rBLAST.install-out.txt --library=F:\biocbuild\bbs-3.20-bioc\R\library --no-vignettes --timings rBLAST_1.2.0.tar.gz StartedAt: 2025-01-31 05:30:43 -0500 (Fri, 31 Jan 2025) EndedAt: 2025-01-31 05:32:16 -0500 (Fri, 31 Jan 2025) EllapsedTime: 93.8 seconds RetCode: 0 Status: OK CheckDir: rBLAST.Rcheck Warnings: 0