Package: rBiopaxParser Version: 2.46.0 Command: /Library/Frameworks/R.framework/Resources/bin/R CMD INSTALL rBiopaxParser StartedAt: 2025-02-10 15:04:27 -0500 (Mon, 10 Feb 2025) EndedAt: 2025-02-10 15:04:47 -0500 (Mon, 10 Feb 2025) EllapsedTime: 20.3 seconds RetCode: 0 Status: OK