Package: rBiopaxParser Version: 2.46.0 Command: F:\biocbuild\bbs-3.20-bioc\R\bin\R.exe CMD check --no-multiarch --install=check:rBiopaxParser.install-out.txt --library=F:\biocbuild\bbs-3.20-bioc\R\library --no-vignettes --timings rBiopaxParser_2.46.0.tar.gz StartedAt: 2025-02-11 05:14:08 -0500 (Tue, 11 Feb 2025) EndedAt: 2025-02-11 05:15:32 -0500 (Tue, 11 Feb 2025) EllapsedTime: 83.5 seconds RetCode: 0 Status: OK CheckDir: rBiopaxParser.Rcheck Warnings: 0