Package: rGADEM Version: 2.54.0 Command: /Library/Frameworks/R.framework/Resources/bin/R CMD build --keep-empty-dirs --no-resave-data rGADEM StartedAt: 2025-01-31 06:23:34 -0500 (Fri, 31 Jan 2025) EndedAt: 2025-01-31 06:24:41 -0500 (Fri, 31 Jan 2025) EllapsedTime: 66.9 seconds RetCode: 1 Status: ERROR PackageFile: None PackageFileSize: NA