Package: rGADEM Version: 2.54.0 Command: /home/biocbuild/R/R/bin/R CMD INSTALL rGADEM StartedAt: 2024-11-19 20:49:09 -0000 (Tue, 19 Nov 2024) EndedAt: 2024-11-19 20:50:10 -0000 (Tue, 19 Nov 2024) EllapsedTime: 60.9 seconds RetCode: 0 Status: OK